BEGIN:VCALENDAR
VERSION:2.0
PRODID:-//ChamberMaster//Event Calendar 2.0//EN
METHOD:PUBLISH
X-PUBLISHED-TTL:P3D
REFRESH-INTERVAL:P3D
CALSCALE:GREGORIAN
BEGIN:VEVENT
DTSTART:20241120T123000Z
DTEND:20241120T140000Z
X-MICROSOFT-CDO-ALLDAYEVENT:FALSE
SUMMARY:Eggs & Issues Legislative Breakfast
DESCRIPTION:Our popular series is back!\n\nBringing influential public and private figures together with the local business community for crucial conversations around the challenges and opportunities our region faces.\n7:30 - 8:00 am: Networking and Breakfast\n\n8:00 am: Program begins
X-ALT-DESC;FMTTYPE=text/html:Our popular series is back!<br />\nBringing influential public and private figures together with the local business community for crucial conversations around the challenges and opportunities our region faces.\n<p><strong>7:30 - 8:00 am: Networking and Breakfast<br />\n8:00 am: Program begins</strong></p>\n
LOCATION:Hampton Inn 106 Bank Road Haverhill\, MA
UID:e.2926.5146343
SEQUENCE:3
DTSTAMP:20260422T071250Z
URL:http://haverhillma.chambermaster.com/events/details/eggs-issues-legislative-breakfast-5146343
END:VEVENT

END:VCALENDAR
