BEGIN:VCALENDAR
VERSION:2.0
PRODID:-//ChamberMaster//Event Calendar 2.0//EN
METHOD:PUBLISH
X-PUBLISHED-TTL:P3D
REFRESH-INTERVAL:P3D
CALSCALE:GREGORIAN
BEGIN:VEVENT
DTSTART:20201112T170000Z
DTEND:20201112T180000Z
X-MICROSOFT-CDO-ALLDAYEVENT:FALSE
SUMMARY:PACE Virtual Networking
DESCRIPTION:PACE NOVEMBER FREE VIRTUAL NETWORKING MEETING\n\n\n\nJoin us for a PACE Virtual Zoom Networking Mixer on November 12\, 2020\, 11:30am-1pm. FREE Event for Members and Guests! Donations kindly requested for PACE Scholarship Fund.
X-ALT-DESC;FMTTYPE=text/html:PACE NOVEMBER FREE VIRTUAL NETWORKING MEETING<br />\n<br />\nJoin us for a PACE Virtual Zoom Networking Mixer on November 12\, 2020\, 11:30am-1pm. FREE Event for Members and Guests! Donations kindly requested for PACE Scholarship Fund.&nbsp\;<br />\n<br />\n&nbsp\;
LOCATION:Virtual Zoom Meeting Registration required. Zoom information to be sent after registration.
UID:e.2926.5139359
SEQUENCE:3
DTSTAMP:20260420T032218Z
URL:http://haverhillma.chambermaster.com/events/details/pace-virtual-networking-5139359
END:VEVENT

END:VCALENDAR
